BEGIN:VCALENDAR
VERSION:2.0
PRODID:-//McTimothy Associates
CALSCALE:GREGORIAN
METHOD:PUBLISH
X-WR-CALNAME:McTimothy Associates
X-ORIGINAL-URL:https://www.mctimothyassociates.com/product/improving-productivity-through-quality-enhancement-and-cost-reduction-2/
X-WR-CALDESC:Improving Productivity through Quality Enhancement and Cost Reduction
BEGIN:VEVENT
DTSTART;TZID=Europe/Paris:20250515T100000
DTEND;TZID=Europe/Paris:20250517T160000
SUMMARY:Improving Productivity through Quality Enhancement and Cost Reduction
DESCRIPTION:
URL:https://www.mctimothyassociates.com/product/improving-productivity-through-quality-enhancement-and-cost-reduction-2/
LOCATION:The professional Place, 12B Olumoroti Street Gbagada Phrase 2, Gbagada Lagos
END:VEVENT
END:VCALENDAR
