BEGIN:VCALENDAR
VERSION:2.0
PRODID:-//McTimothy Associates
CALSCALE:GREGORIAN
METHOD:PUBLISH
X-WR-CALNAME:McTimothy Associates
X-ORIGINAL-URL:https://www.mctimothyassociates.com/product/understanding-and-implementing-six-sigma-yellow-belt/
X-WR-CALDESC:Understanding and Implementing Six Sigma (Yellow Belt)
BEGIN:VEVENT
DTSTART;TZID=Europe/Paris:20260219T100000
DTEND;TZID=Europe/Paris:20260221T160000
SUMMARY:Understanding and Implementing Six Sigma (Yellow Belt)
DESCRIPTION:
URL:https://www.mctimothyassociates.com/product/understanding-and-implementing-six-sigma-yellow-belt/
LOCATION:The professional Place, 12B Olumoroti Street Gbagada Phrase 2, Gbagada Lagos
END:VEVENT
END:VCALENDAR
