BEGIN:VCALENDAR
VERSION:2.0
PRODID:-//McTimothy Associates
CALSCALE:GREGORIAN
METHOD:PUBLISH
X-WR-CALNAME:McTimothy Associates
X-ORIGINAL-URL:https://www.mctimothyassociates.com/product/leading-a-team-of-champions-5/
X-WR-CALDESC:Leading a Team of Champions
BEGIN:VEVENT
DTSTART;TZID=Europe/Paris:20250724T100000
DTEND;TZID=Europe/Paris:20250726T160000
SUMMARY:Leading a Team of Champions
DESCRIPTION:
URL:https://www.mctimothyassociates.com/product/leading-a-team-of-champions-5/
LOCATION:The professional Place, 12B Olumoroti Street Gbagada Phrase 2, Gbagada Lagos
END:VEVENT
END:VCALENDAR
