BEGIN:VCALENDAR
VERSION:2.0
PRODID:-//McTimothy Associates
CALSCALE:GREGORIAN
METHOD:PUBLISH
X-WR-CALNAME:McTimothy Associates
X-ORIGINAL-URL:https://www.mctimothyassociates.com/product/situational-leadership-and-relationship-management-2/
X-WR-CALDESC:Situational Leadership and Relationship Management
BEGIN:VEVENT
DTSTART;TZID=Europe/Paris:20240829T100000
DTEND;TZID=Europe/Paris:20240831T160000
SUMMARY:Situational Leadership and Relationship Management
DESCRIPTION:
URL:https://www.mctimothyassociates.com/product/situational-leadership-and-relationship-management-2/
LOCATION:The professional Place, 12B Olumoroti Street Gbagada Phrase 2, Gbagada Lagos
END:VEVENT
END:VCALENDAR
