BEGIN:VCALENDAR
VERSION:2.0
PRODID:-//McTimothy Associates
CALSCALE:GREGORIAN
METHOD:PUBLISH
X-WR-CALNAME:McTimothy Associates
X-ORIGINAL-URL:https://www.mctimothyassociates.com/product/powerful-purposeful-and-visionary-of-leadership/
X-WR-CALDESC:Powerful, Purposeful and Visionary of Leadership
BEGIN:VEVENT
DTSTART;TZID=Europe/Paris:20250324T100000
DTEND;TZID=Europe/Paris:20250326T160000
SUMMARY:Powerful, Purposeful and Visionary of Leadership
DESCRIPTION:
URL:https://www.mctimothyassociates.com/product/powerful-purposeful-and-visionary-of-leadership/
LOCATION:The professional Place, 12B Olumoroti Street Gbagada Phrase 2, Gbagada Lagos
END:VEVENT
END:VCALENDAR
