BEGIN:VCALENDAR
VERSION:2.0
PRODID:-//McTimothy Associates
CALSCALE:GREGORIAN
METHOD:PUBLISH
X-WR-CALNAME:McTimothy Associates
X-ORIGINAL-URL:https://www.mctimothyassociates.com/product/e-hr-modern-trends-and-applications-4/
X-WR-CALDESC:e-HR: Modern Trends and Applications
BEGIN:VEVENT
DTSTART;TZID=Europe/Paris:20240904T100000
DTEND;TZID=Europe/Paris:20240906T160000
SUMMARY:e-HR: Modern Trends and Applications
DESCRIPTION:
URL:https://www.mctimothyassociates.com/product/e-hr-modern-trends-and-applications-4/
LOCATION:The professional Place, 12B Olumoroti Street Gbagada Phrase 2, Gbagada Lagos
END:VEVENT
END:VCALENDAR
