BEGIN:VCALENDAR
VERSION:2.0
PRODID:-//McTimothy Associates
CALSCALE:GREGORIAN
METHOD:PUBLISH
X-WR-CALNAME:McTimothy Associates
X-ORIGINAL-URL:https://www.mctimothyassociates.com/product/strategic-recruitment-interviewing-and-selection-6/
X-WR-CALDESC:Strategic Recruitment, Interviewing and Selection
BEGIN:VEVENT
DTSTART;TZID=Europe/Paris:20241010T100000
DTEND;TZID=Europe/Paris:20241012T160000
SUMMARY:Strategic Recruitment, Interviewing and Selection
DESCRIPTION:
URL:https://www.mctimothyassociates.com/product/strategic-recruitment-interviewing-and-selection-6/
LOCATION:The professional Place, 12B Olumoroti Street Gbagada Phrase 2, Gbagada Lagos
END:VEVENT
END:VCALENDAR
