BEGIN:VCALENDAR
VERSION:2.0
PRODID:-//McTimothy Associates
CALSCALE:GREGORIAN
METHOD:PUBLISH
X-WR-CALNAME:McTimothy Associates
X-ORIGINAL-URL:https://www.mctimothyassociates.com/product/managing-expatriate-employment-and-nigerias-labours-law-legislation-3/
X-WR-CALDESC:Managing Expatriate Employment and Nigeria&#8217;s Labour&#8217;s Law/Legislation
BEGIN:VEVENT
DTSTART;TZID=Europe/Paris:20240704T100000
DTEND;TZID=Europe/Paris:20240706T160000
SUMMARY:Managing Expatriate Employment and Nigeria’s Labour’s Law/Legislation
DESCRIPTION:
URL:https://www.mctimothyassociates.com/product/managing-expatriate-employment-and-nigerias-labours-law-legislation-3/
LOCATION:The professional Place, 12B Olumoroti Street Gbagada Phrase 2, Gbagada Lagos
END:VEVENT
END:VCALENDAR
