BEGIN:VCALENDAR
VERSION:2.0
PRODID:-//McTimothy Associates
CALSCALE:GREGORIAN
METHOD:PUBLISH
X-WR-CALNAME:McTimothy Associates
X-ORIGINAL-URL:https://www.mctimothyassociates.com/product/managing-contractual-claims-and-obligations/
X-WR-CALDESC:Managing Contractual Claims Effectively
BEGIN:VEVENT
DTSTART;TZID=Europe/Paris:20250305T100000
DTEND;TZID=Europe/Paris:20250307T160000
SUMMARY:Managing Contractual Claims Effectively
DESCRIPTION:
URL:https://www.mctimothyassociates.com/product/managing-contractual-claims-and-obligations/
LOCATION:The professional Place, 12B Olumoroti Street Gbagada Phrase 2, Gbagada Lagos
END:VEVENT
END:VCALENDAR
