BEGIN:VCALENDAR
VERSION:2.0
PRODID:-//McTimothy Associates
CALSCALE:GREGORIAN
METHOD:PUBLISH
X-WR-CALNAME:McTimothy Associates
X-ORIGINAL-URL:https://www.mctimothyassociates.com/product/enterprise-risk-management-5/
X-WR-CALDESC:Enterprise Risk Management
BEGIN:VEVENT
DTSTART;TZID=Europe/Paris:20250710T100000
DTEND;TZID=Europe/Paris:20250712T160000
SUMMARY:Enterprise Risk Management
DESCRIPTION:
URL:https://www.mctimothyassociates.com/product/enterprise-risk-management-5/
LOCATION:The professional Place, 12B Olumoroti Street Gbagada Phrase 2, Gbagada Lagos
END:VEVENT
END:VCALENDAR
