BEGIN:VCALENDAR
VERSION:2.0
PRODID:-//McTimothy Associates
CALSCALE:GREGORIAN
METHOD:PUBLISH
X-WR-CALNAME:McTimothy Associates
X-ORIGINAL-URL:https://www.mctimothyassociates.com/product/strategic-management-best-practice-2/
X-WR-CALDESC:Strategic Management Best Practice
BEGIN:VEVENT
DTSTART;TZID=Europe/Paris:20250723T100000
DTEND;TZID=Europe/Paris:20250726T160000
SUMMARY:Strategic Management Best Practice
DESCRIPTION:
URL:https://www.mctimothyassociates.com/product/strategic-management-best-practice-2/
LOCATION:The professional Place, 12B Olumoroti Street Gbagada Phrase 2, Gbagada Lagos
END:VEVENT
END:VCALENDAR
