BEGIN:VCALENDAR
VERSION:2.0
PRODID:-//McTimothy Associates
CALSCALE:GREGORIAN
METHOD:PUBLISH
X-WR-CALNAME:McTimothy Associates
X-ORIGINAL-URL:https://www.mctimothyassociates.com/product/project-management-for-transport-infrastructure-2/
X-WR-CALDESC:Project Management for Transport Infrastructure
BEGIN:VEVENT
DTSTART;TZID=Europe/Paris:20240320T000000
DTEND;TZID=Europe/Paris:20240322T000000
SUMMARY:Project Management for Transport Infrastructure
DESCRIPTION:
URL:https://www.mctimothyassociates.com/product/project-management-for-transport-infrastructure-2/
LOCATION:The professional Place, 12B Olumoroti Street Gbagada Phrase 2, Gbagada Lagos
END:VEVENT
END:VCALENDAR
