BEGIN:VCALENDAR
VERSION:2.0
PRODID:-//McTimothy Associates
CALSCALE:GREGORIAN
METHOD:PUBLISH
X-WR-CALNAME:McTimothy Associates
X-ORIGINAL-URL:https://www.mctimothyassociates.com/product/project-management-using-prince2-approach-5/
X-WR-CALDESC:Prince 2® Project Management Skills
BEGIN:VEVENT
DTSTART;TZID=Europe/Paris:20261203T100000
DTEND;TZID=Europe/Paris:20261205T160000
SUMMARY:Prince 2® Project Management Skills
DESCRIPTION:
URL:https://www.mctimothyassociates.com/product/project-management-using-prince2-approach-5/
LOCATION:The professional Place, 12B Olumoroti Street Gbagada Phrase 2, Gbagada Lagos
END:VEVENT
END:VCALENDAR
