BEGIN:VCALENDAR
VERSION:2.0
PRODID:-//McTimothy Associates
CALSCALE:GREGORIAN
METHOD:PUBLISH
X-WR-CALNAME:McTimothy Associates
X-ORIGINAL-URL:https://www.mctimothyassociates.com/product/establishing-and-managing-the-project-management-office-pmo-2/
X-WR-CALDESC:Establishing and Managing the Project Management Office (PMO)
BEGIN:VEVENT
DTSTART;TZID=Europe/Paris:20241127T100000
DTEND;TZID=Europe/Paris:20241129T160000
SUMMARY:Establishing and Managing the Project Management Office (PMO)
DESCRIPTION:
URL:https://www.mctimothyassociates.com/product/establishing-and-managing-the-project-management-office-pmo-2/
LOCATION:The professional Place, 12B Olumoroti Street Gbagada Phrase 2, Gbagada Lagos
END:VEVENT
END:VCALENDAR
