BEGIN:VCALENDAR
VERSION:2.0
PRODID:-//McTimothy Associates
CALSCALE:GREGORIAN
METHOD:PUBLISH
X-WR-CALNAME:McTimothy Associates
X-ORIGINAL-URL:https://www.mctimothyassociates.com/product/the-highly-productive-and-effective-administrator-2/
X-WR-CALDESC:The Highly Productive and Effective Administrator
BEGIN:VEVENT
DTSTART;TZID=Europe/Paris:20240808T100000
DTEND;TZID=Europe/Paris:20240810T160000
SUMMARY:The Highly Productive and Effective Administrator
DESCRIPTION:
URL:https://www.mctimothyassociates.com/product/the-highly-productive-and-effective-administrator-2/
LOCATION:The professional Place, 12B Olumoroti Street Gbagada Phrase 2, Gbagada Lagos
END:VEVENT
END:VCALENDAR
