BEGIN:VCALENDAR
VERSION:2.0
PRODID:-//McTimothy Associates
CALSCALE:GREGORIAN
METHOD:PUBLISH
X-WR-CALNAME:McTimothy Associates
X-ORIGINAL-URL:https://www.mctimothyassociates.com/product/the-customer-complaint-system-a-tool-for-customer-service-improvement/
X-WR-CALDESC:The Customer Complaint System: A Tool for Customer Service Improvement
BEGIN:VEVENT
DTSTART;TZID=Europe/Paris:20240327T100000
DTEND;TZID=Europe/Paris:20240330T160000
SUMMARY:The Customer Complaint System: A Tool for Customer Service Improvement
DESCRIPTION:
URL:https://www.mctimothyassociates.com/product/the-customer-complaint-system-a-tool-for-customer-service-improvement/
LOCATION:The professional Place, 12B Olumoroti Street Gbagada Phrase 2, Gbagada Lagos
END:VEVENT
END:VCALENDAR
