BEGIN:VCALENDAR
VERSION:2.0
PRODID:-//McTimothy Associates
CALSCALE:GREGORIAN
METHOD:PUBLISH
X-WR-CALNAME:McTimothy Associates
X-ORIGINAL-URL:https://www.mctimothyassociates.com/product/customer-acquisition-and-retention-strategies/
X-WR-CALDESC:Customer Acquisition and Retention Strategies
BEGIN:VEVENT
DTSTART;TZID=Europe/Paris:20240214T000000
DTEND;TZID=Europe/Paris:20240216T000000
SUMMARY:Customer Acquisition and Retention Strategies
DESCRIPTION:
URL:https://www.mctimothyassociates.com/product/customer-acquisition-and-retention-strategies/
LOCATION:The professional Place, 12B Olumoroti Street Gbagada Phrase 2, Gbagada Lagos
END:VEVENT
END:VCALENDAR
