BEGIN:VCALENDAR
VERSION:2.0
PRODID:-//McTimothy Associates
CALSCALE:GREGORIAN
METHOD:PUBLISH
X-WR-CALNAME:McTimothy Associates
X-ORIGINAL-URL:https://www.mctimothyassociates.com/product/managing-oil-and-gas-field-operations/
X-WR-CALDESC:Managing Oil And Gas Field Operations
BEGIN:VEVENT
DTSTART;TZID=Europe/Paris:20260317T100000
DTEND;TZID=Europe/Paris:20260321T160000
SUMMARY:Managing Oil And Gas Field Operations
DESCRIPTION:This Oil &amp; Gas Field Operations training course will feature: Exploration &amp; Drilling Operations Reservoir &amp; Subsurface Equipment Oil &amp; Gas Separation Systems and Troubleshooting Gas Treatment &amp; Dehydration Operations Oil Dehydration and Desalting Operations Oil Pumping &amp; Gas Compression, Transportation a&amp; Storage Learning Objectives Upon attendance to the Oil &amp; Gas Field Operations training course, the participants will be able to: Gain an overview of global oil &amp; gas related statistics Gain an overview of the upstream operations and related facilities Understand various methods and techniques used in the Oil &amp; Gas Fields to explore, drill, produce, treat and transport oil, gas and their products Gain knowledge about reservoir behavior such as pressure, temperature, rock and fluid properties and different recovery methods Identify the types and purpose of production equipment such as wellheads, Manifolds, separators, chemical injection, pipelines, pig launchers and receivers, heat exchangers, valves, pumps and compressors Be familiar with emulsion problems and treatment Increase understanding in water and gas injection technology for pressure maintenance. Have knowledge of the following: Characteristics of Crude Oil, Oil &amp; Gas Separation, The Petroleum Production Facility Understand gas dehydration and processing, absorption, refrigeration and fractionation, cryogenics and LNG production Understand various field facilities from the reservoir to end users Understand oil &amp; gas separation operations and troubleshooting Understand various production and recovery techniques and methods Gain an understanding with regards to evaluating oil &amp; gas reserves, artificial lift and enhancing recovery Get a general feel for conducting an economic evaluation on field development projects including risk analysis Target Audience The Oil &amp; Gas Field Operations training course is designed for: Those directly involved in operating oil and gas production and treatment facilities Oil &amp; gas field operation and maintenance personnel Production personnel, junior staff, and other staff who want to increase their understanding of the oil &amp; gas production operation. Field operations and maintenance technicians Production operators who would like to enhance their knowledge about the function of various field facilities. Project &amp; Process engineers who are involved in designing and executing field production facilities New hires and trainees in the areas of petroleum, production, process, industrial and mechanical engineering Other support staff who have an interest in increasing their understanding of the oil &amp; gas field operations Training Methodology This training course will include a number of exercises aimed at enhancing each participant capability to understand various oil &amp; gas field production operation and problems. A number of short industrial videos and animated exercises will be presented during the course to enhance the participants’ knowledge about the field operations. Pre &amp; Post course assessments will be used to measure the effectiveness of this training.
URL:https://www.mctimothyassociates.com/product/managing-oil-and-gas-field-operations/
LOCATION:The professional Place, 12B Olumoroti Street Gbagada Phrase 2, Gbagada Lagos
END:VEVENT
END:VCALENDAR
