BEGIN:VCALENDAR
VERSION:2.0
PRODID:-//McTimothy Associates
CALSCALE:GREGORIAN
METHOD:PUBLISH
X-WR-CALNAME:McTimothy Associates
X-ORIGINAL-URL:https://www.mctimothyassociates.com/product/mastering-the-oil-and-gas-business-essentials/
X-WR-CALDESC:Mastering the Oil and Gas Business Essentials
BEGIN:VEVENT
DTSTART;TZID=Europe/Paris:20230725T100000
DTEND;TZID=Europe/Paris:20230728T160000
SUMMARY:Mastering the Oil and Gas Business Essentials
DESCRIPTION:Course Methodology The material used in the training course will be based on exercises as well as regional and international case studies. Participants will frequently work in pairs with one another as well as in larger teams. Course Objectives By the end of the course, participants will be able to: Recall the structure and lifecycle of the oil and gas industry, and understand how the industry functions from upstream, through midstream to downstream Recognize how oil is formed, found, recovered/extracted, processed, transported and sold Describe terminologies and functions, including installations, production facilities and onshore/offshore operations and support requirements Explain oil and gas operations and the associated challenges, as well as the various systems monitoring and controlling equipment Examine why the industry is classified as a high-risk safety critical industry Target Audience Anyone wishing to gain an overview or basic understanding of oil and gas, the industry or its operations. This includes, but is not limited to, anyone new to the oil and gas industry, contractors working with clients in the industry, or anyone within a non-technical role in the industry who is seeking a greater understanding of operations. Target Competencies Principles of Oil Production Onshore/Offshore Operations Oil and Gas Operations Oil and Gas Safety
URL:https://www.mctimothyassociates.com/product/mastering-the-oil-and-gas-business-essentials/
LOCATION:The professional Place, 12B Olumoroti Street Gbagada Phrase 2, Gbagada Lagos
END:VEVENT
END:VCALENDAR
