BEGIN:VCALENDAR
VERSION:2.0
PRODID:-//McTimothy Associates
CALSCALE:GREGORIAN
METHOD:PUBLISH
X-WR-CALNAME:McTimothy Associates
X-ORIGINAL-URL:https://www.mctimothyassociates.com/product/osha-occupational-safety-health-administration-standards-3/
X-WR-CALDESC:OSHA: OCCUPATIONAL SAFETY AND HEALTH ADMINISTRATION STANDARDS
BEGIN:VEVENT
DTSTART;TZID=Europe/Paris:20251016T100000
DTEND;TZID=Europe/Paris:20251018T160000
SUMMARY:OSHA: OCCUPATIONAL SAFETY AND HEALTH ADMINISTRATION STANDARDS
DESCRIPTION:Course Methodology This course will be highly interactive and include group discussions, case studies and syndicate work. Depending on the participants’ backgrounds, the course outline may vary and focus on the areas specific to their industry and function requirements. All participants will receive the OSHA General Industry Regulations handbook which they can bring back to their organization for future reference. Course Objectives By the end of the course, participants will be able to: Explain and apply the contents of the Occupational Safety and Health Administration 29CFR1910 (OSHA) standards Prepare an effective safety program that will also increase employee morale and productivity, and reduce overall costs Describe the training requirements of OSHA standards and identify the training topics that their organization’s employees will need Apply the record-keeping requirements of OSHA to maintain an effective workplace injury log Distinguish the difference between workers’ rights and employers’ responsibilities as defined by OSHA Target Audience This course is designed for health and safety directors, field supervisors, engineers, safety professionals, site managers, and anyone seeking a better knowledge of the rules and regulations that govern workplace safety requirements. Target Competencies Understanding OSHA Complying with health and safety Applying safety measures Implementing safety training requirements Record keeping
URL:https://www.mctimothyassociates.com/product/osha-occupational-safety-health-administration-standards-3/
LOCATION:The professional Place, 12B Olumoroti Street Gbagada Phrase 2, Gbagada Lagos
END:VEVENT
END:VCALENDAR
