BEGIN:VCALENDAR
VERSION:2.0
PRODID:-//McTimothy Associates
CALSCALE:GREGORIAN
METHOD:PUBLISH
X-WR-CALNAME:McTimothy Associates
X-ORIGINAL-URL:https://www.mctimothyassociates.com/product/hazardous-waste-management-workshop-2/
X-WR-CALDESC:Hazardous Waste Management Workshop
BEGIN:VEVENT
DTSTART;TZID=Europe/Paris:20250814T100000
DTEND;TZID=Europe/Paris:20250816T160000
SUMMARY:Hazardous Waste Management Workshop
DESCRIPTION:Course Methodology This course will be highly interactive and include group discussions, case studies and syndicate work. It will include practical exercises that will allow all participants to use the knowledge they gained to demonstrate their skills in hazardous waste management. Course Objectives By the end of the course, participants will be able to: Reduce waste management cost by effectively distinguishing the different types of hazardous waste and applying the relevant pre-transport requirements and disposal methods Use engineering controls to ensure all individuals involved with hazardous waste have the required Personal Protective Equipment (PPE) Avoid accidents by applying the correct handling methods for drums and containers used for various types of hazardous wastes Identify training needs for all individuals involved with hazardous waste management Develop emergency response plans to hazardous substance release Target Audience This course is beneficial for individuals in industries that generate hazardous materials and who are charged with the development of contingency or emergency plans. This course is also designed for individuals who are directly or indirectly involved in the cleanup efforts of areas or buildings contaminated with hazardous waste. Target Competencies Hazardous waste management Hazardous waste transportation Engineering controls Drums and containers handling Emergency response planning
URL:https://www.mctimothyassociates.com/product/hazardous-waste-management-workshop-2/
LOCATION:The professional Place, 12B Olumoroti Street Gbagada Phrase 2, Gbagada Lagos
END:VEVENT
END:VCALENDAR
