BEGIN:VCALENDAR
VERSION:2.0
PRODID:-//McTimothy Associates
CALSCALE:GREGORIAN
METHOD:PUBLISH
X-WR-CALNAME:McTimothy Associates
X-ORIGINAL-URL:https://www.mctimothyassociates.com/product/strategic-sales-channel-development-5/
X-WR-CALDESC:Strategic Sales and Channel Development
BEGIN:VEVENT
DTSTART;TZID=Europe/Paris:20241107T100000
DTEND;TZID=Europe/Paris:20241109T160000
SUMMARY:Strategic Sales and Channel Development
DESCRIPTION:Course Methodology The course relies on the use of a variety of case studies and exercises to develop a consistent approach to sales team management. Group presentations and self-assessment tools will also be used to create a shared language around key sales management competencies.
URL:https://www.mctimothyassociates.com/product/strategic-sales-channel-development-5/
LOCATION:The professional Place, 12B Olumoroti Street Gbagada Phrase 2, Gbagada Lagos
END:VEVENT
END:VCALENDAR
