BEGIN:VCALENDAR
VERSION:2.0
PRODID:-//McTimothy Associates
CALSCALE:GREGORIAN
METHOD:PUBLISH
X-WR-CALNAME:McTimothy Associates
X-ORIGINAL-URL:https://www.mctimothyassociates.com/product/effective-trade-marketing-distribution-strategies-5/
X-WR-CALDESC:Effective Trade Marketing &#038; Distribution Strategies
BEGIN:VEVENT
DTSTART;TZID=Europe/Paris:20240807T100000
DTEND;TZID=Europe/Paris:20240809T160000
SUMMARY:Effective Trade Marketing & Distribution Strategies
DESCRIPTION:In some ways, trade marketing strategies may seem similar to brand marketing ones. Nevertheless, the difference between the two lies in the target market. A brand marketer’s goal is to connect with consumers who make up the final piece of the puzzle. Trade marketing is about everything that happens before that final interaction. The balance of power has shifted between manufacturers and retailers over the last few decades. Many now believe that retailers possess the ultimate power as they have the final say over which products are sold in their establishments. However, this assertion is still up for debate. So what are some ways manufacturers are combating the status quo and how does trade marketing fit into this evolving panorama? Course Objectives By attending this course participants will be able to: Understand Trade Marketing Fundamentals and gain a deep understanding of the core principles and concepts of trade marketing. Analyze Market and Consumer Insights by conducting market research and analyzing consumer behaviors. Develop Effective Trade Marketing Strategies by learning to design, plan, and execute trade marketing strategies that align with overall marketing and sales objectives., Optimize Trade Promotions by exploring various trade promotion techniques, understanding their impact on consumer behavior and sales, and developing strategies to optimize promotional activities for maximum ROI. Manage Trade Relationships by discovering the key elements of building and maintaining strong relationships with trade partners Implement Channel Distribution Best Practices and acquire insights into the selection and management of distribution channels. Measure and Evaluate Trade Marketing Performance. Develop Actionable Trade Marketing Plans. &nbsp; Duration: 3 days Customize Your Training This training solution and other training topics from McTimothy Associates are currently available as residential/in-house options. Please Note McTimothy Associates Reserves the right to postpone or cancel a course due to unforeseen circumstances beyond our control. In such cases, delegate(s) will be registered for the next run of the Course.
URL:https://www.mctimothyassociates.com/product/effective-trade-marketing-distribution-strategies-5/
LOCATION:The Professional Place 12B, Olumoroti Street, Gbagada Phase2, Gbagada, Lagos
END:VEVENT
END:VCALENDAR
