BEGIN:VCALENDAR
VERSION:2.0
PRODID:-//McTimothy Associates
CALSCALE:GREGORIAN
METHOD:PUBLISH
X-WR-CALNAME:McTimothy Associates
X-ORIGINAL-URL:https://www.mctimothyassociates.com/product/mastering-situational-leadership-3/
X-WR-CALDESC:Mastering Situational Leadership
BEGIN:VEVENT
DTSTART;TZID=Europe/Paris:20250710T100000
DTEND;TZID=Europe/Paris:20250712T160000
SUMMARY:Mastering Situational Leadership
DESCRIPTION:Course Methodology This course features the use of interactive exercises to allow participants to develop strategies that will help them improve their competencies in adaptive leadership. The course also relies on the analysis of case studies and real-life examples from the business world. Course Objectives By the end of the course, participants will be able to: Distinguish technical problems from adaptive challenges and learn how to observe, interpret and intervene Discover the implications of the status quo on their organizations and diagnose the system Create an adaptive culture by mobilizing the system Target Audience Managers, business professionals, and individuals who have decided to master the tools and tactics of adaptive leadership in a world where change has become the only constant. Target Competencies Adaptive leadership Envisioning and initiating Influencing and motivating Decision-making Strategic thinking Leveraging diversity Capacity-building Emotional understanding
URL:https://www.mctimothyassociates.com/product/mastering-situational-leadership-3/
LOCATION:The professional Place, 12B Olumoroti Street Gbagada Phrase 2, Gbagada Lagos
END:VEVENT
END:VCALENDAR
