BEGIN:VCALENDAR
VERSION:2.0
PRODID:-//McTimothy Associates
CALSCALE:GREGORIAN
METHOD:PUBLISH
X-WR-CALNAME:McTimothy Associates
X-ORIGINAL-URL:https://www.mctimothyassociates.com/product/emotional-intelligence-becoming-a-better-leader-2/
X-WR-CALDESC:EMOTIONAL INTELLIGENCE: BECOMING A BETTER AND TRANSFORMATIVE LEADER
BEGIN:VEVENT
DTSTART;TZID=Europe/Paris:20240704T100000
DTEND;TZID=Europe/Paris:20240706T160000
SUMMARY:EMOTIONAL INTELLIGENCE: BECOMING A BETTER AND TRANSFORMATIVE LEADER
DESCRIPTION:Course Methodology The course uses mini presentations by the subject matter expert aimed at explaining the theory behind Emotional and Action Intelligence. These presentations are followed by practical applications, in the form of simulations, designed to help participants translate theory into practice. Finally, the course relies on a number of self-assessments and questionnaires the purpose of which is to help participants discover their strengths and weaknesses in this important and critical competency. Course Objectives By the end of the course, participants will be able to: Explain the nature and theories underlying Emotional Intelligence (EI) Define the various EI competencies and identify areas for improvement as needed Identify their personal strengths and blind spots revealed through self-assessments Boost their EQ levels by learning lifestyle tips and techniques aimed at enhancing emotional intelligence Improve their action intelligence by translating their emotional intelligence into actionable steps and habits Target Audience The course is intended for professionals, at all levels, who are keen on enhancing their personal productivity at work and in their personal lives. The course is of particular benefit to business managers and leaders who lead a very busy career which continues to tax other aspects of their lives. Target Competencies Emotional intelligence Lifestyle management Rational decision making Self and time management Team building Result orientation Resilience
URL:https://www.mctimothyassociates.com/product/emotional-intelligence-becoming-a-better-leader-2/
LOCATION:The professional Place, 12B Olumoroti Street Gbagada Phrase 2, Gbagada Lagos
END:VEVENT
END:VCALENDAR
