BEGIN:VCALENDAR
VERSION:2.0
PRODID:-//McTimothy Associates
CALSCALE:GREGORIAN
METHOD:PUBLISH
X-WR-CALNAME:McTimothy Associates
X-ORIGINAL-URL:https://www.mctimothyassociates.com/product/lean-six-sigma-green-belt-training-2/
X-WR-CALDESC:LEAN SIX SIGMA GREEN BELT TRAINING
BEGIN:VEVENT
DTSTART;TZID=Europe/Paris:20250904T100000
DTEND;TZID=Europe/Paris:20250906T160000
SUMMARY:LEAN SIX SIGMA GREEN BELT TRAINING
DESCRIPTION:Course Methodology This course is instructor-led and classroom-based. The instruction is a blend of lectures, applications as well as individual and team based exercises. Laptop computers will be used extensively during the course to practice on Minitab. Various exercises and a full case study will be used to direct and illustrate the implementation of a project. Learned skills are practiced and applied through individual and team exercises as well as individual projects. Participants will be able to apply the concepts learned in the course to a business improvement project assigned to them by their management sponsor. Games and discussions will be used to enrich course delivery. Course Objectives By the end of the course, participants will be able to: Develop the Six Sigma methodology and apply its roadmap Apply the principles of the Six Sigma 'DMAIC' performance improvement model Examine in detail the various elements of building a complete project for improvement Develop statistical hypotheses using simple statistical tools Use quantifiable tools to solve problems related to an improvement project Eliminate waste and defects by applying Lean and Six Sigma Collect, analyze, and quantify data that enable process improvements Employ statistical analysis using statistical tools and software Target Audience Individuals from all organization departments including finance, quality and business operations staff functions as well as those who have direct intervention as process owners or stakeholders. Target Competencies Applying Six Sigma Understanding Lean Using 5S Using poka yoke Understanding descriptive statistics Understanding hypothesis testing Understanding measurement system analysis Developing control charts Computing process capability
URL:https://www.mctimothyassociates.com/product/lean-six-sigma-green-belt-training-2/
LOCATION:The Professional Place 12B,Olumoroti Street,Gbagada Phase , Gbagada, Lagos 
END:VEVENT
END:VCALENDAR
