BEGIN:VCALENDAR
VERSION:2.0
PRODID:-//McTimothy Associates
CALSCALE:GREGORIAN
METHOD:PUBLISH
X-WR-CALNAME:McTimothy Associates
X-ORIGINAL-URL:https://www.mctimothyassociates.com/product/inventory-logistics-and-distributions-management-3/
X-WR-CALDESC:Inventory, Logistics and Distributions Management
BEGIN:VEVENT
DTSTART;TZID=Europe/Paris:20240703T100000
DTEND;TZID=Europe/Paris:20240705T160000
SUMMARY:Inventory, Logistics and Distributions Management
DESCRIPTION:Course Methodology In this training course we will use exercises as well as regional and international case studies. Participants will frequently work in pairs with one another and in larger teams. Course Objectives By the end of the course, participants will be able to: Recognize modern supply chain and logistics trends as a basis for sustainable performance Employ qualitative and quantitative material forecasting techniques for a streamlined logistical operation Develop go-to-market strategies for different product categories based on associated supply risk and financial impact of each Describe role of transportation in logistics and identify opportunities for operational improvement Describe role of warehousing in logistics and identify opportunities for operational improvement
URL:https://www.mctimothyassociates.com/product/inventory-logistics-and-distributions-management-3/
LOCATION:The professional Place, 12B Olumoroti Street Gbagada Phrase 2, Gbagada Lagos
END:VEVENT
END:VCALENDAR
