BEGIN:VCALENDAR
VERSION:2.0
PRODID:-//McTimothy Associates
CALSCALE:GREGORIAN
METHOD:PUBLISH
X-WR-CALNAME:McTimothy Associates
X-ORIGINAL-URL:https://www.mctimothyassociates.com/product/fast-closing-monthly-and-year-end-accounts-3/
X-WR-CALDESC:Fast-Closing Monthly and Year-End Accounts
BEGIN:VEVENT
DTSTART;TZID=Europe/Paris:20250821T100000
DTEND;TZID=Europe/Paris:20250823T160000
SUMMARY:Fast-Closing Monthly and Year-End Accounts
DESCRIPTION:Course Objectives By the end of the course, participants will be able to: Describe the different types of closing and list the main activities in the closing cycle Utilize assessment tools to pinpoint the disconnect between finance and internal users List the steps needed to carry on process improvements in finance and identify the need for closing process redesign Practice using process maps to identify closing inefficiencies and present improvement recommendations Apply best practices and enhance the monthly closing procedures Target Audience Accountants, finance managers, financial controllers, management accountants, general ledger accountants, accounts receivable and accounts payable accountants, senior accountants and assistant accountants. Target Competencies Process analysis Closing procedures Analytical skills Process mapping
URL:https://www.mctimothyassociates.com/product/fast-closing-monthly-and-year-end-accounts-3/
LOCATION:The professional Place, 12B Olumoroti Street Gbagada Phrase 2, Gbagada Lagos
END:VEVENT
END:VCALENDAR
