BEGIN:VCALENDAR
VERSION:2.0
PRODID:-//McTimothy Associates
CALSCALE:GREGORIAN
METHOD:PUBLISH
X-WR-CALNAME:McTimothy Associates
X-ORIGINAL-URL:https://www.mctimothyassociates.com/product/effective-budgeting-and-budgetary-control-methods-2/
X-WR-CALDESC:EFFECTIVE BUDGETING AND BUDGETARY CONTROL METHODS
BEGIN:VEVENT
DTSTART;TZID=Europe/Paris:20250501T100000
DTEND;TZID=Europe/Paris:20250503T160000
SUMMARY:EFFECTIVE BUDGETING AND BUDGETARY CONTROL METHODS
DESCRIPTION:COURSE COVERAGE Course Methodology The course is a hands-on application on how to use MS Excel in budgeting and forecasting. Participants will be involved in exercises, individual and group presentations, and working on case studies. Course Objectives By the end of the course, participants will be able to: Evaluate the budgeting process in their organizations and recommend improvements Create budget templates and models for their departments or organizations Apply several forecasting techniques to better manage uncertainties in budgeting Evaluate capital budgeting decisions using several methods and recommend proper action Utilize Microsoft Excel functions and tools in the budgeting process including breakeven analysis and optimization Target Audience Finance directors, managers, controllers, accountants, budget analysts, budget owners and professionals who wish to expand their budgeting knowledge. Target Competencies Budgeting Building models in Microsoft Excel Forecasting Evaluating proposals Applying Microsoft Excel functions and tools Assessing budgeting process
URL:https://www.mctimothyassociates.com/product/effective-budgeting-and-budgetary-control-methods-2/
LOCATION:The professional Place, 12B Olumoroti Street Gbagada Phrase 2, Gbagada Lagos
END:VEVENT
END:VCALENDAR
