BEGIN:VCALENDAR
VERSION:2.0
PRODID:-//McTimothy Associates
CALSCALE:GREGORIAN
METHOD:PUBLISH
X-WR-CALNAME:McTimothy Associates
X-ORIGINAL-URL:https://www.mctimothyassociates.com/product/developing-analytical-competence-to-manage-operations/
X-WR-CALDESC:Developing Analytical Competence To Manage Operations
BEGIN:VEVENT
DTSTART;TZID=Europe/Paris:20250829T100000
DTEND;TZID=Europe/Paris:20250830T160000
SUMMARY:Developing Analytical Competence To Manage Operations
DESCRIPTION:The purpose of the course is to understand what strategic Business analysis is, why it is used, and how it is used. Participants will learn what the necessary elements are that support the use of Business Analysis including contractual agreements, technology, sponsors, risk identification and mitigation, sources of capital, financial structuring, the use of Business modeling and other considerations. Course Objective At the end of the course, participants will: Apply best practices of the business analysis discipline Conduct a business-needs analysis to elicit stakeholder requirements Apply techniques to identify issues and opportunities Create effective requirements and communication plans Manage solution assessment and validation Target Competencies Analyzing and prioritizing business needs Applying elicitation techniques Deploying root cause analysis techniques Writing SMART business objectives Conducting stakeholder analysis Deploying the affinity diagramming technique
URL:https://www.mctimothyassociates.com/product/developing-analytical-competence-to-manage-operations/
LOCATION:
END:VEVENT
END:VCALENDAR
