BEGIN:VCALENDAR
VERSION:2.0
PRODID:-//McTimothy Associates
CALSCALE:GREGORIAN
METHOD:PUBLISH
X-WR-CALNAME:McTimothy Associates
X-ORIGINAL-URL:https://www.mctimothyassociates.com/product/effective-compliant-system-a-tool-for-customer-services-improvement-7/
X-WR-CALDESC:Customer Complaints System: A Tool for Customer Service Improvement
BEGIN:VEVENT
DTSTART;TZID=Europe/Paris:20251006T100000
DTEND;TZID=Europe/Paris:20251009T160000
SUMMARY:Customer Complaints System: A Tool for Customer Service Improvement
DESCRIPTION:Course Methodology In addition to short presentations by the consultant and the resulting written or oral questions that are debated by the group, this course relies on case studies, exercises and the design of procedures and forms by work teams as well as role-plays. Course Objectives By the end of the course, participants will be able to: Defend the vital role of a customer complaints management system in enhancing organizational performance Demonstrate how a properly trained employee handles, step-by-step, complaining customers, gains their confidence and gratitude and secures their satisfaction Implement a customer feedback system that will maximize customer satisfaction and retention Manage every phase of the complaint handling process from preparation to closing including receipt, analysis, escalation, tracking, and all internal and external communication Formulate relevant key performance indicators to assess and audit complaint systems Target Audience Customer complaint system managers and staff, customer service managers and staff, as well as managers and staff of support departments such as HR and IT, that provide services to other departments (internal customers) in the organization. Target Competencies Customer orientation Empathic outlook Emotional control Meeting standards Systems judgement Organized workplace Quality orientation
URL:https://www.mctimothyassociates.com/product/effective-compliant-system-a-tool-for-customer-services-improvement-7/
LOCATION:The professional Place, 12B Olumoroti Street Gbagada Phrase 2, Gbagada Lagos
END:VEVENT
END:VCALENDAR
