BEGIN:VCALENDAR
VERSION:2.0
PRODID:-//McTimothy Associates
CALSCALE:GREGORIAN
METHOD:PUBLISH
X-WR-CALNAME:McTimothy Associates
X-ORIGINAL-URL:https://www.mctimothyassociates.com/product/managing-organizational-productivity-for-workplace-success-2/
X-WR-CALDESC:Managing Organizational Productivity for Workplace Success
BEGIN:VEVENT
DTSTART;TZID=Europe/Paris:20250724T100000
DTEND;TZID=Europe/Paris:20250726T160000
SUMMARY:Managing Organizational Productivity for Workplace Success
DESCRIPTION:Program Objectives By the time the program ends, participants would become conversant with the procedure of: Determining performance measures at the Corporate, Business Unit and Individual levels. Managing the attainment of targets through regular monitoring, and support. Appraising employees and identifying training and development requirements to build relevant competencies. Linking individual performance to rewards and career advancement. Why is productivity so important? What is the concept of productivity? What is productivity vs. growth? How is organizational productivity measured? What is the definition of productivity in business? Benefits of productivity Tools of Productivity The Role of Change as driver of productivity &nbsp; &nbsp;
URL:https://www.mctimothyassociates.com/product/managing-organizational-productivity-for-workplace-success-2/
LOCATION:The professional Place, 12B Olumoroti Street Gbagada Phrase 2, Gbagada Lagos
END:VEVENT
END:VCALENDAR
