BEGIN:VCALENDAR
VERSION:2.0
PRODID:-//McTimothy Associates
CALSCALE:GREGORIAN
METHOD:PUBLISH
X-WR-CALNAME:McTimothy Associates
X-ORIGINAL-URL:https://www.mctimothyassociates.com/product/the-effective-training-and-development-measuring-roi-of-training-3/
X-WR-CALDESC:The Effective Training and Development: Measuring ROI of Training
BEGIN:VEVENT
DTSTART;TZID=Europe/Paris:20221115T100000
DTEND;TZID=Europe/Paris:20221117T160000
SUMMARY:The Effective Training and Development: Measuring ROI of Training
DESCRIPTION:Effective Training &amp; Development: Measuring ROI of Training Course Methodology The course is delivered in a highly practical and application-oriented approach. The classroom practicality is coupled with rich tools, templates and checklists that can be adapted for use within participants' organizations. Course Objectives By the end of the course, participants will be able to: Measure the impact of training on more than one level of evaluation Identify methods used to collect data during and after training programs Demonstrate appropriate methods in isolating the effects of training Tabulate monetary values of training in terms of benefits and costs Calculate and interpret return on investment of training Target Audience Training and development professionals, human resources partners and anyone who is involved with measuring the impact of training within an organization. Target Competencies Deciding and initiating action Persuading and influencing Presenting and communicating Analytical thinking Applying expertise and technology Planning and organizing
URL:https://www.mctimothyassociates.com/product/the-effective-training-and-development-measuring-roi-of-training-3/
LOCATION:The professional Place, 12B Olumoroti Street Gbagada Phrase 2, Gbagada Lagos
END:VEVENT
END:VCALENDAR
