BEGIN:VCALENDAR
VERSION:2.0
PRODID:-//McTimothy Associates
CALSCALE:GREGORIAN
METHOD:PUBLISH
X-WR-CALNAME:McTimothy Associates
X-ORIGINAL-URL:https://www.mctimothyassociates.com/product/the-effective-training-and-development-measuring-roi-of-training/
X-WR-CALDESC:The Effective Training and Development: Measuring ROI of Training
BEGIN:VEVENT
DTSTART;TZID=Europe/Paris:20260622T100000
DTEND;TZID=Europe/Paris:20220624T160000
SUMMARY:The Effective Training and Development: Measuring ROI of Training
DESCRIPTION:
URL:https://www.mctimothyassociates.com/product/the-effective-training-and-development-measuring-roi-of-training/
LOCATION:The professional Place, 12B Olumoroti Street Gbagada Phrase 2, Gbagada Lagos
END:VEVENT
END:VCALENDAR
