BEGIN:VCALENDAR
VERSION:2.0
PRODID:-//McTimothy Associates
CALSCALE:GREGORIAN
METHOD:PUBLISH
X-WR-CALNAME:McTimothy Associates
X-ORIGINAL-URL:https://www.mctimothyassociates.com/product/advance-microsoft-power-point-presentation-for-sales-marketing-executives/
X-WR-CALDESC:Advance Microsoft Power Point &#038; Presentation for Sales/Marketing Executives
BEGIN:VEVENT
DTSTART;TZID=Europe/Paris:20260312T100000
DTEND;TZID=Europe/Paris:20260314T160000
SUMMARY:Advance Microsoft Power Point & Presentation for Sales/Marketing Executives
DESCRIPTION:
URL:https://www.mctimothyassociates.com/product/advance-microsoft-power-point-presentation-for-sales-marketing-executives/
LOCATION:The professional Place, 12B Olumoroti Street Gbagada Phrase 2, Gbagada Lagos
END:VEVENT
END:VCALENDAR
