BEGIN:VCALENDAR
VERSION:2.0
PRODID:-//McTimothy Associates
CALSCALE:GREGORIAN
METHOD:PUBLISH
X-WR-CALNAME:McTimothy Associates
X-ORIGINAL-URL:https://www.mctimothyassociates.com/product/personal-effectiveness-and-business-mastery/
X-WR-CALDESC:Personal Effectiveness and Business Mastery
BEGIN:VEVENT
DTSTART;TZID=Europe/Paris:20250328T100000
DTEND;TZID=Europe/Paris:20250329T160000
SUMMARY:Personal Effectiveness and Business Mastery
DESCRIPTION:Course Objectives By the end of the course, participants will be able to: Apply the right skills necessary to complete work effectively and efficiently Plan and schedule work-related tasks by using basic project planning tools Describe how to leverage stakeholders’ buy-in and support Use positive communication and influencing techniques to get things done Explain how to gain team commitment and support through appreciation and engagement Target Audience These course targets professionals, from all industries, who want to acquire essential skills to create and develop an effective and efficient workplace environment. It is designed for team leaders, supervisors, managers, and section heads who are interested in improving their productivity or that of the people they manage or work with, whether on a project or within a department. The course also serves as a solid foundation for those who are keen on assuming a supervisory or managerial role as the next step in their career. Target Competencies Self and time management Goal setting Scheduling Task assignment and management Conflict management Communication Motivation Dealing with change at the individual and organizational levels Program Description This course is about what managers can do specifically to improve their effectiveness and enhance productivity for the organization. The program contents have been developed around seven “Key Questions” which managers must continually answer for themselves. The questions are: What have I been hired to do? What results are expected of me? What can I do to make a real difference in the organization's fortunes? What are my bosses’ Critical Result Areas? What Critical Result Areas should be for my sub-ordinates? What do I value most in my life? What do I want to achieve - my goals: Long term? Short-term? Professionally? Socially?
URL:https://www.mctimothyassociates.com/product/personal-effectiveness-and-business-mastery/
LOCATION:The professional Place, 12B Olumoroti Street Gbagada Phrase 2, Gbagada Lagos
END:VEVENT
END:VCALENDAR
