BEGIN:VCALENDAR
VERSION:2.0
PRODID:-//McTimothy Associates
CALSCALE:GREGORIAN
METHOD:PUBLISH
X-WR-CALNAME:McTimothy Associates
X-ORIGINAL-URL:https://www.mctimothyassociates.com/product/quality-assurance-and-quality-control-using-iso-90012015/
X-WR-CALDESC:Quality Assurance and Quality Control using ISO 9001:2015 
BEGIN:VEVENT
DTSTART;TZID=Europe/Paris:20260326T100000
DTEND;TZID=Europe/Paris:20260328T160000
SUMMARY:Quality Assurance and Quality Control using ISO 9001:2015 
DESCRIPTION:
URL:https://www.mctimothyassociates.com/product/quality-assurance-and-quality-control-using-iso-90012015/
LOCATION:The professional Place, 12B Olumoroti Street Gbagada Phrase 2, Gbagada Lagos
END:VEVENT
END:VCALENDAR
