BEGIN:VCALENDAR
VERSION:2.0
PRODID:-//McTimothy Associates
CALSCALE:GREGORIAN
METHOD:PUBLISH
X-WR-CALNAME:McTimothy Associates
X-ORIGINAL-URL:https://www.mctimothyassociates.com/product/accounting-for-investment-and-financial-instruments-workshop/
X-WR-CALDESC:Accounting for investment and Financial Instruments Workshop
BEGIN:VEVENT
DTSTART;TZID=Europe/Paris:20250206T100000
DTEND;TZID=Europe/Paris:20250208T160000
SUMMARY:Accounting for investment and Financial Instruments Workshop
DESCRIPTION:
URL:https://www.mctimothyassociates.com/product/accounting-for-investment-and-financial-instruments-workshop/
LOCATION:The professional Place, 12B Olumoroti Street Gbagada Phrase 2, Gbagada Lagos
END:VEVENT
END:VCALENDAR
