BEGIN:VCALENDAR
VERSION:2.0
PRODID:-//McTimothy Associates
CALSCALE:GREGORIAN
METHOD:PUBLISH
X-WR-CALNAME:McTimothy Associates
X-ORIGINAL-URL:https://www.mctimothyassociates.com/product/accounting-and-comparison-of-ifrs-and-gaap-2/
X-WR-CALDESC:Accounting and Comparison of IFRS and GAAP
BEGIN:VEVENT
DTSTART;TZID=Europe/Paris:20250619T100000
DTEND;TZID=Europe/Paris:20250621T160000
SUMMARY:Accounting and Comparison of IFRS and GAAP
DESCRIPTION:
URL:https://www.mctimothyassociates.com/product/accounting-and-comparison-of-ifrs-and-gaap-2/
LOCATION:The professional Place, 12B Olumoroti Street Gbagada Phrase 2, Gbagada Lagos
END:VEVENT
END:VCALENDAR
