BEGIN:VCALENDAR
VERSION:2.0
PRODID:-//McTimothy Associates
CALSCALE:GREGORIAN
METHOD:PUBLISH
X-WR-CALNAME:McTimothy Associates
X-ORIGINAL-URL:https://www.mctimothyassociates.com/product/managing-redundancy-outplacement-effectively-3/
X-WR-CALDESC:Managing Redundancy and Outplacement Effectively
BEGIN:VEVENT
DTSTART;TZID=Europe/Paris:20241017T100000
DTEND;TZID=Europe/Paris:20241019T160000
SUMMARY:Managing Redundancy and Outplacement Effectively
DESCRIPTION:
URL:https://www.mctimothyassociates.com/product/managing-redundancy-outplacement-effectively-3/
LOCATION:The Professional Place 12B, Olumoroti Street, Gbagada Phase2, Gbagada, Lagos
END:VEVENT
END:VCALENDAR
