BEGIN:VCALENDAR
VERSION:2.0
PRODID:-//McTimothy Associates
CALSCALE:GREGORIAN
METHOD:PUBLISH
X-WR-CALNAME:McTimothy Associates
X-ORIGINAL-URL:https://www.mctimothyassociates.com/product/outbound-call-centre-tele-sales-skills-training-virtual-training/
X-WR-CALDESC:Outbound Call Centre (Tele Sales Skills) Training Program
BEGIN:VEVENT
DTSTART;TZID=Europe/Paris:20230215T100000
DTEND;TZID=Europe/Paris:20230216T160000
SUMMARY:Outbound Call Centre (Tele Sales Skills) Training Program
DESCRIPTION:Learning Outcomes Define outbound call centre strategies Identify the different types of buying motivations Master strategic sales processes for your products, buying cycle and the buyer's motivations Learn strategies for effective communication Learn advanced phone etiquette skills Set benchmarks for help with managing individuals as well as teams Develop strategies for increasing team motivation &amp; morale leading to a great company culture Learn how to dress for success Gain valuable insight into international etiquette in call-centre operations &nbsp;
URL:https://www.mctimothyassociates.com/product/outbound-call-centre-tele-sales-skills-training-virtual-training/
LOCATION:The Professional Place 12B, Olumoroti Street, Gbagada Phase2, Gbagada, Lagos
END:VEVENT
END:VCALENDAR
