BEGIN:VCALENDAR
VERSION:2.0
PRODID:-//McTimothy Associates
CALSCALE:GREGORIAN
METHOD:PUBLISH
X-WR-CALNAME:McTimothy Associates
X-ORIGINAL-URL:https://www.mctimothyassociates.com/product/strategic-procurement-and-outsourcing-virtual-training/
X-WR-CALDESC:Strategic Procurement and Outsourcing &#8211; Virtual training
BEGIN:VEVENT
DTSTART;TZID=Europe/Paris:20230313T100000
DTEND;TZID=Europe/Paris:20230317T160000
SUMMARY:Strategic Procurement and Outsourcing – Virtual training
DESCRIPTION:Strategic Procurement and Outsourcing - Virtual training Description This course offers analysis of the process of capability development and strategic procurement and strategic outsourcing, with special reference to the public sector. It may be expected that defence procurement will receive particular attention. Assessment may include a significant research-based component. You will be expected to demonstrate the achievement of these outcomes below through the designated assessment tasks. Learning Outcomes By the conclusion of this course you should be able to: 1 understand and discuss the role of procurement as a strategic aspect of supply chain activity; 2 analyse and evaluate different procurement-focused organisational structures, policies, processes and procedures; 3 analyse and evaluate alternative make-or-buy and source selection strategies; 4 describe the mechanics of purchasing including requirements specification, offer solicitation, evaluation and supplier selection; 5 analyse and discuss the relative advantages and disadvantages of different types of procurement contracts; 6 understand and discuss the role of contract management as a form of business risk mitigation; 7 discuss and understand the determinants of effective supplier relationship management; 8 describe the emergent forms of e-procurement and computer-mediated procurement information systems; and 9 discuss recent trends in procurement in the global economy. Delivery Mode This course leverages a variety of learning tools including:  exercises, case studies and videos. Topics to be covered Purchasing processes, policies, and procedures Purchasing organisation Make-or-buy strategies in commercial environment Make-or-buy strategies in public sector Source selection strategy Requirements specification Offer solicitation and supplier selection Supplier management Contracting and contract management Information systems and e-commerce Defence procurement Trends in procurement and supply chain management Ethics in procurement and green sourcing
URL:https://www.mctimothyassociates.com/product/strategic-procurement-and-outsourcing-virtual-training/
LOCATION:Virtual Training
END:VEVENT
END:VCALENDAR
