BEGIN:VCALENDAR
VERSION:2.0
PRODID:-//McTimothy Associates
CALSCALE:GREGORIAN
METHOD:PUBLISH
X-WR-CALNAME:McTimothy Associates
X-ORIGINAL-URL:https://www.mctimothyassociates.com/product/accounts-payable-training/
X-WR-CALDESC:ACCOUNTS PAYABLE: FROM ACCOUNTING TO MANAGEMENT
BEGIN:VEVENT
DTSTART;TZID=Europe/Paris:20250424T100000
DTEND;TZID=Europe/Paris:20250426T160000
SUMMARY:ACCOUNTS PAYABLE: FROM ACCOUNTING TO MANAGEMENT
DESCRIPTION:Course Methodology This course demonstrates theoretical and practical core topics in addition to introducing Excel in managing accounts payable. The course also features role-playing and presentations by participants.  Course Objectives By the end of the course, participants will be able to: Identify the function of Accounts Payable (AP) and its role in organizations Use accounting principles related to accounts payable Describe how to take a successful lead in the management of accounts payable Assess AP operations and processes and recommend improvements using the latest best practices Evaluate main issues affecting AP staff in order to increase their efficiency and productivity Apply tools and techniques in Microsoft Excel to effectively manage and monitor AP performance Target Audience Managers of accounts payable, AP staff and professionals as well as clerks and specialists who wish to advance their career. The course is also beneficial to professionals in accounting, finance, purchasing and procurement who work closely with Accounts Payable. Target Competencies Examine the role of accounts payable Perform month-end accruals Realize the value-added of three-way matching Prepare and analyze accounts payable aging Prevent accounts payable fraud Apply accounts payable best practices Implement early payment discount Utilize Excel functions
URL:https://www.mctimothyassociates.com/product/accounts-payable-training/
LOCATION:The professional place, 12b Olumoroti street, Gbagada phase 2
END:VEVENT
END:VCALENDAR
