BEGIN:VCALENDAR
VERSION:2.0
PRODID:-//McTimothy Associates
CALSCALE:GREGORIAN
METHOD:PUBLISH
X-WR-CALNAME:McTimothy Associates
X-ORIGINAL-URL:https://www.mctimothyassociates.com/product/effective-telesales-workshop-how-to-sell-and-close-deals-on-phone-4/
X-WR-CALDESC:Effective Telesales and Marketing Workshop: How To Sell and Close Deals on Phone
BEGIN:VEVENT
DTSTART;TZID=Europe/Paris:20241015T100000
DTEND;TZID=Europe/Paris:20241017T160000
SUMMARY:Effective Telesales and Marketing Workshop: How To Sell and Close Deals on Phone
DESCRIPTION:
URL:https://www.mctimothyassociates.com/product/effective-telesales-workshop-how-to-sell-and-close-deals-on-phone-4/
LOCATION:The professional Place, 12B Olumoroti Street Gbagada Phrase 2, Gbagada Lagos
END:VEVENT
END:VCALENDAR
