BEGIN:VCALENDAR
VERSION:2.0
PRODID:-//McTimothy Associates
CALSCALE:GREGORIAN
METHOD:PUBLISH
X-WR-CALNAME:McTimothy Associates
X-ORIGINAL-URL:https://www.mctimothyassociates.com/product/negotiation-strategies-for-better-purchasing-value-6/
X-WR-CALDESC:NEGOTIATION STRATEGIES FOR BETTER PURCHASING VALUE
BEGIN:VEVENT
DTSTART;TZID=Europe/Paris:20240516T100000
DTEND;TZID=Europe/Paris:20240518T160000
SUMMARY:NEGOTIATION STRATEGIES FOR BETTER PURCHASING VALUE
DESCRIPTION:
URL:https://www.mctimothyassociates.com/product/negotiation-strategies-for-better-purchasing-value-6/
LOCATION:The professional Place, 12B Olumoroti Street Gbagada Phrase 2, Gbagada Lagos
END:VEVENT
END:VCALENDAR
