BEGIN:VCALENDAR
VERSION:2.0
PRODID:-//McTimothy Associates
CALSCALE:GREGORIAN
METHOD:PUBLISH
X-WR-CALNAME:McTimothy Associates
X-ORIGINAL-URL:https://www.mctimothyassociates.com/product/effective-leadership-and-communications-6/
X-WR-CALDESC:EFFECTIVE LEADERSHIP AND COMMUNICATIONS
BEGIN:VEVENT
DTSTART;TZID=Europe/Paris:20210519T100000
DTEND;TZID=Europe/Paris:20210521T160000
SUMMARY:EFFECTIVE LEADERSHIP AND COMMUNICATIONS
DESCRIPTION:
URL:https://www.mctimothyassociates.com/product/effective-leadership-and-communications-6/
LOCATION:The professional Place, 12B Olumoroti Street Gbagada Phrase 2, Gbagada Lagos
END:VEVENT
END:VCALENDAR
